BEGIN:VCALENDAR
VERSION:2.0
PRODID:-//eventon.com NONSGML v1.0//EN
CALSCALE:GREGORIAN
METHOD:PUBLISH
BEGIN:VEVENT
UID:69e763605e572
DTSTAMP:20260421T114536Z
DTSTART:20250802T140000Z
DTEND:20250802T170000Z
LOCATION:
SUMMARY:La Ballade d'Ã‰ole
DESCRIPTION:Quatre rendez-vous musicaux le long du quai Le Secret dâ€™Ã‰ole
  au PhareUn tÃªte Ã  tÃªte musical dans le phare de PaimbÅ“uf. Venez avec u
 ne histoire Ã  raconter ou votre poÃ¨me prÃ©fÃ©rÃ©. Ã‰olectroniqueMusique Ã
 ©lectronique pour maison Ã©lectronique Satie\,  sâ€™il vous plaÃ®t ! CÃ©lÃ©
 brer les cent ans de la disparition dâ€™Erik Satie[..]\nhttps://lofficielde
 paimboeuf.com/events/la-ballade-deole/
URL:https://lofficieldepaimboeuf.com/events/la-ballade-deole/
END:VEVENT
END:VCALENDAR