BEGIN:VCALENDAR
VERSION:2.0
PRODID:-//eventon.com NONSGML v1.0//EN
CALSCALE:GREGORIAN
METHOD:PUBLISH
BEGIN:VEVENT
UID:69e763252fb0f
DTSTAMP:20260421T114437Z
DTSTART:20250803T150000Z
DTEND:20250803T235000Z
LOCATION:
SUMMARY:Sonioù Breizh - Sons de Bretagne
DESCRIPTION:La musique bretonne a profondément inspiré certains composite
 urs classiques\,  qui ont su intégrer ses sonorités dans leurs œuvres. C
 ’est le cas de Guy Ropartz et Paul Ladmirault\,  figures d’un courant a
 ttaché aux identités régionales au XIXe siècle. Ce programme propose un
 e rencontre unique entre tradition et création\,  où sonneurs locaux[..]\
 nhttps://lofficieldepaimboeuf.com/events/soniou-breizh-sons-de-bretagne/
URL:https://lofficieldepaimboeuf.com/events/soniou-breizh-sons-de-bretagne/
END:VEVENT
END:VCALENDAR