BEGIN:VCALENDAR
VERSION:2.0
PRODID:-//eventon.com NONSGML v1.0//EN
CALSCALE:GREGORIAN
METHOD:PUBLISH
BEGIN:VEVENT
UID:69e796ac3e879
DTSTAMP:20260421T152428Z
DTSTART:20250730T190000Z
DTEND:20250730T235000Z
LOCATION:
SUMMARY:Chants de l'oppression
DESCRIPTION:Grand concert d'Éole Chopin\,  exilé après l’insurrection 
 de Varsovie en 1830 ; Ligeti\,  fuyant la Hongrie en 1956 ; Chostakovitch e
 t Ustvolskaya\,  enfermés dans le silence soviétique. Quatre musiciens ma
 rqués par la violence de l’Histoire dont les œuvres insoumises et boule
 versantes portent le témoignage. Le violoncelle d’Irena Josifoska\,  fig
 ure incontournable[..]\nhttps://lofficieldepaimboeuf.com/events/chants-de-l
 oppression/
URL:https://lofficieldepaimboeuf.com/events/chants-de-loppression/
END:VEVENT
END:VCALENDAR