BEGIN:VCALENDAR
VERSION:2.0
PRODID:-//eventon.com NONSGML v1.0//EN
CALSCALE:GREGORIAN
METHOD:PUBLISH
BEGIN:VEVENT
UID:69e76360955ee
DTSTAMP:20260421T114536Z
DTSTART:20250803T180000Z
DTEND:20250803T235000Z
LOCATION:
SUMMARY:Dr. Schumann\,  le concert final
DESCRIPTION:Grand concert d'Éole Concert de clôture"J’ai composé un qu
 intette pour piano et cordes\,  et je ne peux imaginer personne d’autre q
 ue toi pour en jouer la partie de piano. Ton toucher\,  ta sensibilité\,  
 tout en toi résonne avec cette musique." Robert Schumann "Nous avons essay
 é pour la première fois le[..]\nhttps://lofficieldepaimboeuf.com/events/c
 oncert-de-cloture/
URL:https://lofficieldepaimboeuf.com/events/concert-de-cloture/
END:VEVENT
END:VCALENDAR