BEGIN:VCALENDAR
VERSION:2.0
PRODID:-//eventon.com NONSGML v1.0//EN
CALSCALE:GREGORIAN
METHOD:PUBLISH
BEGIN:VEVENT
UID:69e797283ebc1
DTSTAMP:20260421T152632Z
DTSTART:20250727T173000Z
DTEND:20250727T235000Z
LOCATION:
SUMMARY:Appassionata
DESCRIPTION:Grand concert d’Éole Pour ouvrir le festival\,  trois chefs-
 d’œuvre traversés par une même tension dramatique\,  le Quatuor pour p
 iano en sol mineur de Mozart\,  le Klavierstück IX de Stockhausen et l’u
 ne des plus belles sonates jamais écrites : la Sonate Appassionata de Beet
 hoven interprétée par Michael Cohen Weissert\,  pianiste bien[..]\nhttps:
 //lofficieldepaimboeuf.com/events/appassionata/
URL:https://lofficieldepaimboeuf.com/events/appassionata/
END:VEVENT
END:VCALENDAR