BEGIN:VCALENDAR
VERSION:2.0
PRODID:-//eventon.com NONSGML v1.0//EN
CALSCALE:GREGORIAN
METHOD:PUBLISH
BEGIN:VEVENT
UID:69e7982233d29
DTSTAMP:20260421T153042Z
DTSTART:20250616
DTEND:20250617
LOCATION:
SUMMARY:Pascual Flores
DESCRIPTION:Goélette à trois mâts de type pailebote. Maniables et rapide
 s\,  ces bateaux ont été construits en grand nombre à Torrevieja\,  en E
 spagne. Le développement du port\,  lié à l’exploitation du sel marin 
 dans les lagunes environnantes\,  conduit à l’essor du commerce du sel p
 ar voie maritime au XIXe siècle.Construit en[..]\nhttps://lofficieldepaimb
 oeuf.com/events/pascual-flores/
URL:https://lofficieldepaimboeuf.com/events/pascual-flores/
END:VEVENT
END:VCALENDAR