BEGIN:VCALENDAR
VERSION:2.0
PRODID:-//eventon.com NONSGML v1.0//EN
CALSCALE:GREGORIAN
METHOD:PUBLISH
BEGIN:VEVENT
UID:69e762587c176
DTSTAMP:20260421T114112Z
DTSTART:20250329T193000Z
DTEND:20250329T210000Z
LOCATION:
SUMMARY:DJ AL!X
DESCRIPTION:DJ Al!x vient mixer pour la huitième fois au CdlL\nhttps://lof
 ficieldepaimboeuf.com/events/dj-alx/
URL:https://lofficieldepaimboeuf.com/events/dj-alx/
END:VEVENT
END:VCALENDAR