BEGIN:VCALENDAR
VERSION:2.0
PRODID:-//eventon.com NONSGML v1.0//EN
CALSCALE:GREGORIAN
METHOD:PUBLISH
BEGIN:VEVENT
UID:69e7636045fe7
DTSTAMP:20260421T114536Z
DTSTART:20250831T060000Z
DTEND:20250831T160000Z
LOCATION:
SUMMARY:Brocante du Boulevard
DESCRIPTION:Incontournable du paysage estival de PaimbÅ“uf\,  la Brocante d
 u Boulevard organisÃ©e par lâ€™Amicale LaÃ¯que de PaimbÅ“uf est ouverte Ã  
 tous. Plus dâ€™une centaine dâ€™emplacement sont disponibles\,  pour les pa
 rticuliers comme pour les professionnels. Et comme Ã  lâ€™accoutumÃ©e\,  lâ
 €™association tiendra sur place un bar et une restauration autour de grilla
 des. Exposants[..]\nhttps://lofficieldepaimboeuf.com/events/brocante-du-bou
 levard-de-paimboeuf/
URL:https://lofficieldepaimboeuf.com/events/brocante-du-boulevard-de-paimboeuf/
END:VEVENT
END:VCALENDAR