BEGIN:VCALENDAR
VERSION:2.0
PRODID:-//eventon.com NONSGML v1.0//EN
CALSCALE:GREGORIAN
METHOD:PUBLISH
BEGIN:VEVENT
UID:69e763da5ae1f
DTSTAMP:20260421T114738Z
DTSTART:20250524T123000Z
DTEND:20250524T215000Z
LOCATION:
SUMMARY:Finales départementales
DESCRIPTION:Le Sud Estuaire Handball Club\,  a l'honneur d'organiser et de 
 recevoir les équipes : U16 Masculins de ASB Rezé et Pont-Château U17 Fé
 minines de La Chabossière et Bouaye U20 Féminines de Nantes Laeticia et L
 igné Pour les trois finales de Coupe de Loire Atlantique - entrée libre\n
 https://lofficieldepaimboeuf.com/events/finales-departementales/
URL:https://lofficieldepaimboeuf.com/events/finales-departementales/
END:VEVENT
END:VCALENDAR