BEGIN:VCALENDAR
VERSION:2.0
PRODID:-//eventon.com NONSGML v1.0//EN
CALSCALE:GREGORIAN
METHOD:PUBLISH
BEGIN:VEVENT
UID:69e7621d03dd1
DTSTAMP:20260421T114013Z
DTSTART:20250411T183000Z
DTEND:20250411T200000Z
LOCATION:
SUMMARY:Francis Lung
DESCRIPTION:Lâ€™auteur-compositeur-interprÃ¨te mancunien (de Manchester) Fr
 ancis Lung\,  ancien membre de Wu Lyf\,  revient avec son dernier album Sho
 rt Stories. Il sâ€™agit dâ€™une collection de chansons mi-chantÃ©es\,  mi-p
 arlÃ©es\,  dont lâ€™Ã©criture est similaire Ã  celle des albums prÃ©cÃ©dent
 s\,  tout en sâ€™orientant vers un style plus narratif avec une sensibilitÃ
 © distincte du nord de[..]\nhttps://lofficieldepaimboeuf.com/events/francis
 -lung/
URL:https://lofficieldepaimboeuf.com/events/francis-lung/
END:VEVENT
END:VCALENDAR