BEGIN:VCALENDAR
VERSION:2.0
PRODID:-//eventon.com NONSGML v1.0//EN
CALSCALE:GREGORIAN
METHOD:PUBLISH
BEGIN:VEVENT
UID:69e7993884245
DTSTAMP:20260421T153520Z
DTSTART:20250621T090000Z
DTEND:20250621T150000Z
LOCATION:
SUMMARY:Fête  des écoles des 4 amarres
DESCRIPTION:Principal évènement de l’Amicale Laïque de Paimboeuf\,  la
 &nbsp;fête des écoles des 4&nbsp;Amarres&nbsp;(maternelle et primaire)\, 
  se tiendra&nbsp;le samedi 21&nbsp;juin de 11&nbsp;h à 17&nbsp;h\,  sur le
  terrain de pétanque\,  quai Éole\,  et est ouverte à tous. Spectacles d
 es élèves avec une prestation des élèves de maternelle en matinée\,  p
 uis une représentation rythmée[..]\nhttps://lofficieldepaimboeuf.com/even
 ts/fete-des-ecoles-des-4-amarres/
URL:https://lofficieldepaimboeuf.com/events/fete-des-ecoles-des-4-amarres/
END:VEVENT
END:VCALENDAR