BEGIN:VCALENDAR
VERSION:2.0
PRODID:-//eventon.com NONSGML v1.0//EN
CALSCALE:GREGORIAN
METHOD:PUBLISH
BEGIN:VEVENT
UID:69e763dace409
DTSTAMP:20260421T114738Z
DTSTART:20250525T160000Z
DTEND:20250525T215000Z
LOCATION:
SUMMARY:Unhinged
DESCRIPTION:Avec Sarah Fox\,  Connell Sanderson\,  Rosemary O'Malley\,  Est
 eban Flores\nhttps://lofficieldepaimboeuf.com/events/session-irlandaise/
URL:https://lofficieldepaimboeuf.com/events/session-irlandaise/
END:VEVENT
END:VCALENDAR