BEGIN:VCALENDAR
VERSION:2.0
PRODID:-//eventon.com NONSGML v1.0//EN
CALSCALE:GREGORIAN
METHOD:PUBLISH
BEGIN:VEVENT
UID:69e797f9697c1
DTSTAMP:20260421T153001Z
DTSTART:20250604T080000Z
DTEND:20250604T100000Z
LOCATION:
SUMMARY:Labo créatif
DESCRIPTION:Avec Sylvaine Cambianica\,  le Centre Socioculturel vous propos
 e un atelier intergénérationnel 'Labo Créatif'.Venez jouer avec les mati
 ères\,  les couleurs\,  les volumes\,  à travers des apprentissages ludiq
 ues et différents à chaque séance.&nbsp;Chacun repart avec son œuvre. M
 ercredi 4 juin : sortie dessin à vue\,  extérieur à PaimbœufMercredi 18
  juin : composition[..]\nhttps://lofficieldepaimboeuf.com/events/atelier-la
 bo-creatif/
URL:https://lofficieldepaimboeuf.com/events/atelier-labo-creatif/
END:VEVENT
END:VCALENDAR