BEGIN:VCALENDAR
VERSION:2.0
PRODID:-//eventon.com NONSGML v1.0//EN
CALSCALE:GREGORIAN
METHOD:PUBLISH
BEGIN:VEVENT
UID:69e76324d9b81
DTSTAMP:20260421T114436Z
DTSTART:20250703T120000Z
DTEND:20250703T180000Z
LOCATION:
SUMMARY:Mustang 5
DESCRIPTION:Ã€ bord dâ€™un bateau Ã  fond plat dâ€™une capacitÃ© de onze pa
 ssagers\,  embarquez pour une croisiÃ¨re fluviale unique et intimiste sur l
 a rive sud de lâ€™estuaire. Une heure et quart de dÃ©couverte passionnante 
 en compagnie de MickaÃ«l qui partage sa passion pour ce fleuve\,  une maniÃ
 ¨re inÃ©dite dâ€™approcher toute la[..]\nhttps://lofficieldepaimboeuf.com/e
 vents/croisiere-sur-la-loire-2/
URL:https://lofficieldepaimboeuf.com/events/croisiere-sur-la-loire-2/
END:VEVENT
END:VCALENDAR