BEGIN:VCALENDAR
VERSION:2.0
PRODID:-//eventon.com NONSGML v1.0//EN
CALSCALE:GREGORIAN
METHOD:PUBLISH
BEGIN:VEVENT
UID:69e79823ba3a3
DTSTAMP:20260421T153043Z
DTSTART:20250713T110000Z
DTEND:20250713T130000Z
LOCATION:
SUMMARY:303\,  JetFM et la Loire
DESCRIPTION:À l'occasion de la sortie du hors-série n° 185 de la revue 3
 03\,  L’Appel du fleuve\,  La Loire en bande dessinée\,  une antenne de 
 deux heures par JetFM sur la Loire paimblotine\,  ses histoires de vie\,  s
 es transmissions générationnelles\,  ses anecdotes et ses oublis. Avec La
 ure Del Pino\,  Olivier Josso[..]\nhttps://lofficieldepaimboeuf.com/events/
 303-jetfm-et-la-loire/
URL:https://lofficieldepaimboeuf.com/events/303-jetfm-et-la-loire/
END:VEVENT
END:VCALENDAR