BEGIN:VCALENDAR
VERSION:2.0
PRODID:-//eventon.com NONSGML v1.0//EN
CALSCALE:GREGORIAN
METHOD:PUBLISH
BEGIN:VEVENT
UID:69e7982250944
DTSTAMP:20260421T153042Z
DTSTART:20250809T183000Z
DTEND:20250809T200000Z
LOCATION:
SUMMARY:Cher ami
DESCRIPTION:Venu de Montpellier\,  Cher Ami conjugue la grande tradition fo
 lk anglo-saxonne et la chanson à texte française. À la croisée de Barba
 ra et Nick Drake\,  ce duo propose des compositions délicates où leurs de
 ux voix et la guitare racontent l’amour\,  la perte\,  la beauté et le s
 ilence du monde. Première[..]\nhttps://lofficieldepaimboeuf.com/events/%e2
 %98%85-cher-ami-%e2%98%85/
URL:https://lofficieldepaimboeuf.com/events/%e2%98%85-cher-ami-%e2%98%85/
END:VEVENT
END:VCALENDAR