BEGIN:VCALENDAR
VERSION:2.0
PRODID:-//eventon.com NONSGML v1.0//EN
CALSCALE:GREGORIAN
METHOD:PUBLISH
BEGIN:VEVENT
UID:69e7629878467
DTSTAMP:20260421T114216Z
DTSTART:20250220T133000Z
DTEND:20250220T225000Z
LOCATION:
SUMMARY:Formidable
DESCRIPTION:La jonglerie possède une longue histoire que beaucoup ignorent
 \,  venez la découvrir : on vous emmène à Pornic ! Rendez-vous à 14 h 3
 0 au centre socioculturel Mireille MoyonDe 3 € à 9 € (selon votre quot
 ient familial)Dès 6 ans Sur inscription (16 places)\nhttps://lofficieldepa
 imboeuf.com/events/formidable/
URL:https://lofficieldepaimboeuf.com/events/formidable/
END:VEVENT
END:VCALENDAR