BEGIN:VCALENDAR
VERSION:2.0
PRODID:-//eventon.com NONSGML v1.0//EN
CALSCALE:GREGORIAN
METHOD:PUBLISH
BEGIN:VEVENT
UID:69e7638bd88fd
DTSTAMP:20260421T114619Z
DTSTART:20250718T180000Z
DTEND:20250718T210000Z
LOCATION:
SUMMARY:Karaoké
DESCRIPTION:@photo Joao Marinhio\nhttps://lofficieldepaimboeuf.com/events/k
 araoke/
URL:https://lofficieldepaimboeuf.com/events/karaoke/
END:VEVENT
END:VCALENDAR