BEGIN:VCALENDAR
VERSION:2.0
PRODID:-//eventon.com NONSGML v1.0//EN
CALSCALE:GREGORIAN
METHOD:PUBLISH
BEGIN:VEVENT
UID:69e79717869e7
DTSTAMP:20260421T152615Z
DTSTART:20250613
DTEND:20250614
LOCATION:
SUMMARY:Jambon à la broche
DESCRIPTION:Avec mogettes et tarte aux pommes 15€ sur réservation au 02.
 40.39.75.66\nhttps://lofficieldepaimboeuf.com/events/jambon-a-la-broche/
URL:https://lofficieldepaimboeuf.com/events/jambon-a-la-broche/
END:VEVENT
END:VCALENDAR