BEGIN:VCALENDAR
VERSION:2.0
PRODID:-//eventon.com NONSGML v1.0//EN
CALSCALE:GREGORIAN
METHOD:PUBLISH
BEGIN:VEVENT
UID:69e796a3b52a5
DTSTAMP:20260421T152419Z
DTSTART:20251108T193000Z
DTEND:20251108T210000Z
LOCATION:
SUMMARY:Primevère
DESCRIPTION:Découvert voilà dix ans avec le duo fraternel&nbsp;Ropoporose
 &nbsp;et revu depuis auprès des groupes&nbsp;Milk TV\, &nbsp;Ada Oda&nbsp;
 ou encore&nbsp;Paradoxant\,  Romain Benard&nbsp;reprend du service sous son
  nom de fleur\,  avec un troisième album aux accents pop et chanson. Aprè
 s Primevère\,  premier opus sorti en 2020 et II\,  paru en 2022\,  III sor
 tira en septembre[..]\nhttps://lofficieldepaimboeuf.com/events/primevere/
URL:https://lofficieldepaimboeuf.com/events/primevere/
END:VEVENT
END:VCALENDAR