BEGIN:VCALENDAR
VERSION:2.0
PRODID:-//eventon.com NONSGML v1.0//EN
CALSCALE:GREGORIAN
METHOD:PUBLISH
BEGIN:VEVENT
UID:69e7631da6d87
DTSTAMP:20260421T114429Z
DTSTART:20250828T180000Z
DTEND:20250828T193000Z
LOCATION:
SUMMARY:Lucie Folch
DESCRIPTION:En harmonie avec sa guitare\,  Lucie crÃ©e des mÃ©lodies folk\,
   inspirÃ©e par ses amitiÃ©s\,  ses amours\,  ses hauts et ses bas. Lâ€™uni
 vers est feutrÃ©\,  simple et subtil. Ses compositions\,  elle les joue en 
 solo mais Ã©galement en groupe au sein de Harpnâ€™Gun (2013-2016) et Anitaâ
 €™s Revenge (2017-2019).La voix envoÃ»tante de[..]\nhttps://lofficieldepaim
 boeuf.com/events/lucie-folch-2/
URL:https://lofficieldepaimboeuf.com/events/lucie-folch-2/
END:VEVENT
END:VCALENDAR