BEGIN:VCALENDAR
VERSION:2.0
PRODID:-//eventon.com NONSGML v1.0//EN
CALSCALE:GREGORIAN
METHOD:PUBLISH
BEGIN:VEVENT
UID:69e7624fe0322
DTSTAMP:20260421T114103Z
DTSTART:20250213T180000Z
DTEND:20250213T210000Z
LOCATION:
SUMMARY:Soirée jeux musicaux
DESCRIPTION:Une soirée aux sons de vos titres préférés ! Au programme :
  Shabadabada\,  blind test\,  karaoké.\nhttps://lofficieldepaimboeuf.com/e
 vents/soiree-jeux-musicaux/
URL:https://lofficieldepaimboeuf.com/events/soiree-jeux-musicaux/
END:VEVENT
END:VCALENDAR