BEGIN:VCALENDAR
VERSION:2.0
PRODID:-//eventon.com NONSGML v1.0//EN
CALSCALE:GREGORIAN
METHOD:PUBLISH
BEGIN:VEVENT
UID:69e76256e055b
DTSTAMP:20260421T114110Z
DTSTART:20250210T090000Z
DTEND:20250210T130000Z
LOCATION:
SUMMARY:Atelier cuisine
DESCRIPTION:Un atelier autour des crêpes\,  des galettes et de la convivia
 lité suivi d'un repas partagé. Tous les âges sont conviés.3 € par per
 sonne\,  sur inscription (10 places)\nhttps://lofficieldepaimboeuf.com/even
 ts/atelier-cuisine-et-repas-partage/
URL:https://lofficieldepaimboeuf.com/events/atelier-cuisine-et-repas-partage/
END:VEVENT
END:VCALENDAR