BEGIN:VCALENDAR
VERSION:2.0
PRODID:-//eventon.com NONSGML v1.0//EN
CALSCALE:GREGORIAN
METHOD:PUBLISH
BEGIN:VEVENT
UID:69e7638b76822
DTSTAMP:20260421T114619Z
DTSTART:20250621
DTEND:20250622
LOCATION:
SUMMARY:29e régate des 3P
DESCRIPTION:3P : Paimbœuf\,  le Pont\,  Paimbœuf Une quinzaine de bateaux
  parmi les meilleurs équipages français samedi après-midi : courses deva
 nt Paimbœuf dimanche : raid jusqu'au Pont de Saint-Nazaire\nhttps://loffic
 ieldepaimboeuf.com/events/29e-regate-des-3p/
URL:https://lofficieldepaimboeuf.com/events/29e-regate-des-3p/
END:VEVENT
END:VCALENDAR