BEGIN:VCALENDAR
VERSION:2.0
PRODID:-//eventon.com NONSGML v1.0//EN
CALSCALE:GREGORIAN
METHOD:PUBLISH
BEGIN:VEVENT
UID:69e7638b74eb3
DTSTAMP:20260421T114619Z
DTSTART:20250401
DTEND:20250402
LOCATION:
SUMMARY:Jacques Martin
DESCRIPTION:Peintre autodidacte\,  la nature m’inspire chaque jour pour r
 estituer la couleur\,  la lumière.Au tout début\,  influencé par les im
 pressionnistes\,  je recherche maintenant à synthétiser par la forme et 
 la composition\,  le mouvement qu’il y a autour de nous surtout dans les
  arbres et les ciels.Depuis quelques années\,  ceux-ci me procurent un suj
 et de[..]\nhttps://lofficieldepaimboeuf.com/events/jacques-martin/
URL:https://lofficieldepaimboeuf.com/events/jacques-martin/
END:VEVENT
END:VCALENDAR