BEGIN:VCALENDAR
VERSION:2.0
PRODID:-//eventon.com NONSGML v1.0//EN
CALSCALE:GREGORIAN
METHOD:PUBLISH
BEGIN:VEVENT
UID:69e79779b3b2f
DTSTAMP:20260421T152753Z
DTSTART:20250517T080000Z
DTEND:20250517T140000Z
LOCATION:
SUMMARY:Le Printemps des cimetières
DESCRIPTION:Événement national dédié au patrimoine funéraire et à la 
 découverte des cimetières : découverte des richesses patrimoniales de no
 tre cimetière communal avec deux visites.Depuis deux ans\,  l’entretien 
 du cimetière a été totalement repensé suite à l’interdiction des pro
 duits phytosanitaires\,  en optant pour un engazonnement maîtrisé plutôt
  que le désherbage intensif.Cette[..]\nhttps://lofficieldepaimboeuf.com/ev
 ents/le-printemps-des-cimetieres/
URL:https://lofficieldepaimboeuf.com/events/le-printemps-des-cimetieres/
END:VEVENT
END:VCALENDAR