BEGIN:VCALENDAR
VERSION:2.0
PRODID:-//eventon.com NONSGML v1.0//EN
CALSCALE:GREGORIAN
METHOD:PUBLISH
BEGIN:VEVENT
UID:69e762ff42032
DTSTAMP:20260421T114359Z
DTSTART:20250807T180000Z
DTEND:20250807T193000Z
LOCATION:
SUMMARY:Hills of Belgium
DESCRIPTION:Lorcan Fahy & Jérémie FraboniMountain music from the flat cou
 ntry. A fiddle/banjo duo that revisits songs at the roots of American music
 . Welcome to 1905\,  in the Belgian Appalachians. De retour au Café de la 
 Loire\nhttps://lofficieldepaimboeuf.com/events/hills-of-belgium/
URL:https://lofficieldepaimboeuf.com/events/hills-of-belgium/
END:VEVENT
END:VCALENDAR