BEGIN:VCALENDAR
VERSION:2.0
PRODID:-//eventon.com NONSGML v1.0//EN
CALSCALE:GREGORIAN
METHOD:PUBLISH
BEGIN:VEVENT
UID:69e797d76ee76
DTSTAMP:20260421T152927Z
DTSTART:20250502T173000Z
DTEND:20250502T183000Z
LOCATION:
SUMMARY:De l'autre côté de l'eau
DESCRIPTION:Concert en terrasse des Raffinés pour les quatre ans des Flaco
 ns.\nhttps://lofficieldepaimboeuf.com/events/de-lautre-cote-de-leau/
URL:https://lofficieldepaimboeuf.com/events/de-lautre-cote-de-leau/
END:VEVENT
END:VCALENDAR