BEGIN:VCALENDAR
VERSION:2.0
PRODID:-//eventon.com NONSGML v1.0//EN
CALSCALE:GREGORIAN
METHOD:PUBLISH
BEGIN:VEVENT
UID:69e76298773d5
DTSTAMP:20260421T114216Z
DTSTART:20250221T100000Z
DTEND:20250221T225000Z
LOCATION:
SUMMARY:La chapelle Saint-Charles
DESCRIPTION:Après plusieurs années de fermeture au public et deux ans de 
 travaux\,  la chapelle Saint-Charles voit une nouvelle vie s'ouvrir à elle
 .Ancien lieu de culte pour les malades de l’hôpital\,  la chapelle Saint
 -Charles à Paimbœuf possède un intérêt patrimonial incontestable. Cett
 e chapelle avait souffert des effets du temps et présentait[..]\nhttps://l
 officieldepaimboeuf.com/events/la-chapelle-saint-charles/
URL:https://lofficieldepaimboeuf.com/events/la-chapelle-saint-charles/
END:VEVENT
END:VCALENDAR