BEGIN:VCALENDAR
VERSION:2.0
PRODID:-//eventon.com NONSGML v1.0//EN
CALSCALE:GREGORIAN
METHOD:PUBLISH
BEGIN:VEVENT
UID:69e797d704ff4
DTSTAMP:20260421T152927Z
DTSTART:20250627T183000Z
DTEND:20250627T200000Z
LOCATION:
SUMMARY:Pig Society
DESCRIPTION:Collectif de musique traditionnelle américaine à géométrie 
 variable mais au talent constant.Mandoline\,  guitare\,  banjo et harmonies
  vocales.De retour au Café de la Loire\,  on les aime beaucoup.\nhttps://l
 officieldepaimboeuf.com/events/pig-society/
URL:https://lofficieldepaimboeuf.com/events/pig-society/
END:VEVENT
END:VCALENDAR