BEGIN:VCALENDAR
VERSION:2.0
PRODID:-//eventon.com NONSGML v1.0//EN
CALSCALE:GREGORIAN
METHOD:PUBLISH
BEGIN:VEVENT
UID:69e7968bc236a
DTSTAMP:20260421T152355Z
DTSTART:20250726T100000Z
DTEND:20250726T230000Z
LOCATION:
SUMMARY:La Fête • Jam jazz • DJ set
DESCRIPTION:Toute la journée Quai Boulay Paty • à partir de 15h : resti
 tutions des ateliers du Sot l'Y Laisse• 19h30 : Benjamin Fryde (clarinett
 e)\,  Remy Hervo (contrebasse)\,  Michaël Cohen-Weissert (piano) - jam jaz
 z : à l'initiative de l'association Éole en Musiques\,  en guise de pont 
 entre le carnaval Le Sot[..]\nhttps://lofficieldepaimboeuf.com/events/fete-
 du-sot-ly-laisse/
URL:https://lofficieldepaimboeuf.com/events/fete-du-sot-ly-laisse/
END:VEVENT
END:VCALENDAR