BEGIN:VCALENDAR
VERSION:2.0
PRODID:-//eventon.com NONSGML v1.0//EN
CALSCALE:GREGORIAN
METHOD:PUBLISH
BEGIN:VEVENT
UID:69e797fa28618
DTSTAMP:20260421T153002Z
DTSTART:20250514T130000Z
DTEND:20250514T133000Z
LOCATION:
SUMMARY:L'heure du conte
DESCRIPTION:Tu as entre trois et dix ans ? Alors rejoins-nous pour écouter
  des histoires et faire un petit jeu : viens écouter des histoires pleines
  de poésie\,  de sourire\,  de clins d’œil\,  suivies d’un court bric
 olage surprise.Entrée libre. Contact : 02.28.53.47.66.\nhttps://lofficield
 epaimboeuf.com/events/lheure-du-conte-4/
URL:https://lofficieldepaimboeuf.com/events/lheure-du-conte-4/
END:VEVENT
END:VCALENDAR