BEGIN:VCALENDAR
VERSION:2.0
PRODID:-//eventon.com NONSGML v1.0//EN
CALSCALE:GREGORIAN
METHOD:PUBLISH
BEGIN:VEVENT
UID:69e76360de4b2
DTSTAMP:20260421T114536Z
DTSTART:20250222T140000Z
DTEND:20250222T220000Z
LOCATION:
SUMMARY:Dark Ping
DESCRIPTION:Tennis de table dans l’obscurité avec éclairage UV (inoffen
 sifs)\,  qui rendent bien visible tout ce qui est blanc et fluo. Les tables
  sont fluos\,  ainsi que les balles\,  raquettes\,  de nombreux accessoires
  fluos sont prêtés gratuitement : chapeaux\,  gilets\,  perruques\,  coll
 iers hawaïens\,  nœuds papillons\,  cravates\,  bandeaux pour front et po
 ignets\, [..]\nhttps://lofficieldepaimboeuf.com/events/dark-ping-2/
URL:https://lofficieldepaimboeuf.com/events/dark-ping-2/
END:VEVENT
END:VCALENDAR