BEGIN:VCALENDAR
VERSION:2.0
PRODID:-//eventon.com NONSGML v1.0//EN
CALSCALE:GREGORIAN
METHOD:PUBLISH
BEGIN:VEVENT
UID:69e76324be749
DTSTAMP:20260421T114436Z
DTSTART:20250426T183000Z
DTEND:20250426T235000Z
LOCATION:
SUMMARY:Nous autres\,  veillÃ©e au grain
DESCRIPTION:De la Cie La MineUne femme silencieuse brode les mots dâ€™une a
 utre. Ã€ leurs cÃ´tÃ©s\,  un musicien touche-Ã -tout et inspirÃ©\,  un alch
 imiste des sons\,  et une marionnette.Le Centre Socioculturel\,  accompagnÃ
 © des Zinzins du Canal\,  vous propose de vous asseoir avec les artistes\, 
  et de partager un peu de leur chaleur[..]\nhttps://lofficieldepaimboeuf.co
 m/events/treves-eveillees/
URL:https://lofficieldepaimboeuf.com/events/treves-eveillees/
END:VEVENT
END:VCALENDAR