BEGIN:VCALENDAR
VERSION:2.0
PRODID:-//eventon.com NONSGML v1.0//EN
CALSCALE:GREGORIAN
METHOD:PUBLISH
BEGIN:VEVENT
UID:69e763611da19
DTSTAMP:20260421T114537Z
DTSTART:20250521
DTEND:20250522
LOCATION:
SUMMARY:Fête de la nature
DESCRIPTION:Parcours nature à la découverte des espaces naturels en ville
 Cinq5 panneaux ponctuent ce parcours avec comme thématiques : l’estran e
 stuarien et les vasières qui s’imposent comme des réserves naturelles e
 ssentielles à de nombreuses espèces (oiseaux\,  coquillages\,  insectes m
 arins…) l’histoire de la Pierre à l’Œil\,  ancienne balise de Loire
 \,  et le[..]\nhttps://lofficieldepaimboeuf.com/events/fete-de-la-nature/
URL:https://lofficieldepaimboeuf.com/events/fete-de-la-nature/
END:VEVENT
END:VCALENDAR