BEGIN:VCALENDAR
VERSION:2.0
PRODID:-//eventon.com NONSGML v1.0//EN
CALSCALE:GREGORIAN
METHOD:PUBLISH
BEGIN:VEVENT
UID:69e7968a22201
DTSTAMP:20260421T152354Z
DTSTART:20250607T140000Z
DTEND:20250607T153000Z
LOCATION:
SUMMARY:École de musique
DESCRIPTION:Rencontre&nbsp; avec les professeurs\,  découverte des pratiqu
 es instrumentales et collectives De 14h à 15h30\nhttps://lofficieldepaimbo
 euf.com/events/ecole-de-musique/
URL:https://lofficieldepaimboeuf.com/events/ecole-de-musique/
END:VEVENT
END:VCALENDAR