BEGIN:VCALENDAR
VERSION:2.0
PRODID:-//eventon.com NONSGML v1.0//EN
CALSCALE:GREGORIAN
METHOD:PUBLISH
BEGIN:VEVENT
UID:69e763a0bcfdd
DTSTAMP:20260421T114640Z
DTSTART:20250517T090000Z
DTEND:20250517T170000Z
LOCATION:
SUMMARY:Vélo pour tous
DESCRIPTION:Dans le cadre de mai à Vélo\,  portes ouvertes de vélo pour 
 Tous\,  chemin de l'Estuaire. grande bourse aux vélo (avec promotions et l
 ots à gagner) atelier participatif (sur inscription) présentation du serv
 ice de location de vélos atelier de remise en selle (sur inscription) Insc
 riptions : www.billetweb.fr/pro/envi-ccse\nhttps://lofficieldepaimboeuf.com
 /events/velo-pour-tous/
URL:https://lofficieldepaimboeuf.com/events/velo-pour-tous/
END:VEVENT
END:VCALENDAR