BEGIN:VCALENDAR
VERSION:2.0
PRODID:-//eventon.com NONSGML v1.0//EN
CALSCALE:GREGORIAN
METHOD:PUBLISH
BEGIN:VEVENT
UID:69e7636113cf3
DTSTAMP:20260421T114537Z
DTSTART:20250919
DTEND:20250920
LOCATION:
SUMMARY:Gacc
DESCRIPTION:Les artistes de la Galerie À Contre-Courant s'exposent Les ven
 dredis\,  samedi et dimanches\,  aux horaires habituels de la galerie.\nhtt
 ps://lofficieldepaimboeuf.com/events/gacc/
URL:https://lofficieldepaimboeuf.com/events/gacc/
END:VEVENT
END:VCALENDAR