BEGIN:VCALENDAR
VERSION:2.0
PRODID:-//eventon.com NONSGML v1.0//EN
CALSCALE:GREGORIAN
METHOD:PUBLISH
BEGIN:VEVENT
UID:69e7965782666
DTSTAMP:20260421T152303Z
DTSTART:20250905
DTEND:20250906
LOCATION:
SUMMARY:Sacchi\,  Gouraud
DESCRIPTION:Jean-Paul Sacchi\,  Béatrice Gouraud et les artistes de la Gal
 erie À Contre-Courant Les vendredis\,  samedi et dimanches\,  aux horaires
  habituels de la galerie. JP Sacchi B Gouraud\nhttps://lofficieldepaimboeuf
 .com/events/sacchi-gouraud/
URL:https://lofficieldepaimboeuf.com/events/sacchi-gouraud/
END:VEVENT
END:VCALENDAR