BEGIN:VCALENDAR
VERSION:2.0
PRODID:-//eventon.com NONSGML v1.0//EN
CALSCALE:GREGORIAN
METHOD:PUBLISH
BEGIN:VEVENT
UID:69e762b85e14c
DTSTAMP:20260421T114248Z
DTSTART:20250822
DTEND:20250823
LOCATION:
SUMMARY:Chudeau\,  Benzacar\,  Ferreira
DESCRIPTION:Hélène Benzacar\,  Vincent Chudeau\,  Nenna Ferreira Les vend
 redis\,  samedi et dimanches\,  aux horaires habituels de la galerie. V Chu
 deau H Benzacar N Ferreira\nhttps://lofficieldepaimboeuf.com/events/chudeau
 -benzacar-ferreira/
URL:https://lofficieldepaimboeuf.com/events/chudeau-benzacar-ferreira/
END:VEVENT
END:VCALENDAR