BEGIN:VCALENDAR
VERSION:2.0
PRODID:-//eventon.com NONSGML v1.0//EN
CALSCALE:GREGORIAN
METHOD:PUBLISH
BEGIN:VEVENT
UID:69e796fcd73c8
DTSTAMP:20260421T152548Z
DTSTART:20250808
DTEND:20250809
LOCATION:
SUMMARY:Bellorge\,  Tronchet
DESCRIPTION:Catherine Bellorge\,  Lili Tronchet Les vendredis\,  samedi et 
 dimanches\,  aux horaires habituels de la galerie. C Bellorge L Tronchet\nh
 ttps://lofficieldepaimboeuf.com/events/bellorge-tronchet/
URL:https://lofficieldepaimboeuf.com/events/bellorge-tronchet/
END:VEVENT
END:VCALENDAR