BEGIN:VCALENDAR
VERSION:2.0
PRODID:-//eventon.com NONSGML v1.0//EN
CALSCALE:GREGORIAN
METHOD:PUBLISH
BEGIN:VEVENT
UID:69e796fdd4e1c
DTSTAMP:20260421T152549Z
DTSTART:20250725
DTEND:20250726
LOCATION:
SUMMARY:Le Bouhl\,  Marcadon\,  Le Nouveau
DESCRIPTION:Sylvie Le Bouh\,  Paul Marcadon\,  Jo Le Nouveau Les vendredis\
 ,  samedi et dimanches\,  aux horaires habituels de la galerie. J Le Nouvea
 u P Marcadon S Le Bouhl\nhttps://lofficieldepaimboeuf.com/events/marcadon-l
 e-nouveau-le-bouhl/
URL:https://lofficieldepaimboeuf.com/events/marcadon-le-nouveau-le-bouhl/
END:VEVENT
END:VCALENDAR