BEGIN:VCALENDAR
VERSION:2.0
PRODID:-//eventon.com NONSGML v1.0//EN
CALSCALE:GREGORIAN
METHOD:PUBLISH
BEGIN:VEVENT
UID:69e797777822a
DTSTAMP:20260421T152751Z
DTSTART:20250711
DTEND:20250712
LOCATION:
SUMMARY:Moreil\,  Auriol\,  Gloaguen
DESCRIPTION:Laura Moreil\,  Gérard Auriol\,  Yves Gloaguen Les vendredis\,
   samedi et dimanches\,  ainsi que lundi 14 juillet\,  aux horaires habitue
 ls de la galerie. L Moreil Y Gloaguen G Auriol\nhttps://lofficieldepaimboeu
 f.com/events/moreil-auriol-gloaguen/
URL:https://lofficieldepaimboeuf.com/events/moreil-auriol-gloaguen/
END:VEVENT
END:VCALENDAR