BEGIN:VCALENDAR
VERSION:2.0
PRODID:-//eventon.com NONSGML v1.0//EN
CALSCALE:GREGORIAN
METHOD:PUBLISH
BEGIN:VEVENT
UID:69e7638c2e339
DTSTAMP:20260421T114620Z
DTSTART:20250627
DTEND:20250628
LOCATION:
SUMMARY:Louque\,  Gautier\,  Chevillard
DESCRIPTION:Géraldine Louque\,  Françoise Gautier\,  Christian Chevillard
  Les vendredis\,  samedi et dimanches\,  aux horaires habituels de la galer
 ie. F Gautier G Louque C Chevillard\nhttps://lofficieldepaimboeuf.com/event
 s/louque-gautier-chevillard/
URL:https://lofficieldepaimboeuf.com/events/louque-gautier-chevillard/
END:VEVENT
END:VCALENDAR