BEGIN:VCALENDAR
VERSION:2.0
PRODID:-//eventon.com NONSGML v1.0//EN
CALSCALE:GREGORIAN
METHOD:PUBLISH
BEGIN:VEVENT
UID:69e797789d0a8
DTSTAMP:20260421T152752Z
DTSTART:20250613
DTEND:20250614
LOCATION:
SUMMARY:Marchand\,  Pean Leroux\,  Riensenmey
DESCRIPTION:Marie Marchand\,  Danielle Pean Leroux\,  Michèle Riensenmey L
 es vendredis\,  samedi et dimanches\,  aux horaires habituels de la galerie
 . M Marchand D Pean Leroux M Riesenmey\nhttps://lofficieldepaimboeuf.com/ev
 ents/m-marchand-d-pean-leroux-m-riensenmey/
URL:https://lofficieldepaimboeuf.com/events/m-marchand-d-pean-leroux-m-riensenmey/
END:VEVENT
END:VCALENDAR