BEGIN:VCALENDAR
VERSION:2.0
PRODID:-//eventon.com NONSGML v1.0//EN
CALSCALE:GREGORIAN
METHOD:PUBLISH
BEGIN:VEVENT
UID:69e763252f6af
DTSTAMP:20260421T114437Z
DTSTART:20250529
DTEND:20250530
LOCATION:
SUMMARY:Daguet\,  Guihard\,  Judic & Cariou
DESCRIPTION:Nathalie Daghet\,  Nathalie Guihard\,  Marie-Claire Judic\,  L 
 Cariou\,  JL Cariou Les vendredis\,  samedi et dimanches\,  aux horaires ha
 bituels de la galerie. N. Guihard N. Daghet MC Judic L Cariou L Cariou\nhtt
 ps://lofficieldepaimboeuf.com/events/daguet-guihard-judic-cariou/
URL:https://lofficieldepaimboeuf.com/events/daguet-guihard-judic-cariou/
END:VEVENT
END:VCALENDAR