BEGIN:VCALENDAR
VERSION:2.0
PRODID:-//eventon.com NONSGML v1.0//EN
CALSCALE:GREGORIAN
METHOD:PUBLISH
BEGIN:VEVENT
UID:69e762993977e
DTSTAMP:20260421T114217Z
DTSTART:20250516
DTEND:20250517
LOCATION:
SUMMARY:FERRE\,  MOREAU
DESCRIPTION:Isabelle Ferre\,  Luc Moreau Les vendredis\,  samedi et dimanch
 es\,  aux horaires habituels de la galerie.\nhttps://lofficieldepaimboeuf.c
 om/events/isabelle-ferre-luc-moreau/
URL:https://lofficieldepaimboeuf.com/events/isabelle-ferre-luc-moreau/
END:VEVENT
END:VCALENDAR