BEGIN:VCALENDAR
VERSION:2.0
PRODID:-//eventon.com NONSGML v1.0//EN
CALSCALE:GREGORIAN
METHOD:PUBLISH
BEGIN:VEVENT
UID:69e7631da441f
DTSTAMP:20260421T114429Z
DTSTART:20250501
DTEND:20250502
LOCATION:
SUMMARY:Les Pasnets
DESCRIPTION:Les vendredis\,  samedi et dimanches\,  aux horaires habituels 
 de la galerie.\nhttps://lofficieldepaimboeuf.com/events/les-pasnets/
URL:https://lofficieldepaimboeuf.com/events/les-pasnets/
END:VEVENT
END:VCALENDAR