BEGIN:VCALENDAR
VERSION:2.0
PRODID:-//eventon.com NONSGML v1.0//EN
CALSCALE:GREGORIAN
METHOD:PUBLISH
BEGIN:VEVENT
UID:69e762c0d6fee
DTSTAMP:20260421T114256Z
DTSTART:20250418T080000Z
DTEND:20250427T170000Z
LOCATION:
SUMMARY:Odile Letourmy
DESCRIPTION:Les vendredis\,  samedi et dimanches\,  aux horaires habituels 
 de la galerie.\nhttps://lofficieldepaimboeuf.com/events/odile-letourmy/
URL:https://lofficieldepaimboeuf.com/events/odile-letourmy/
END:VEVENT
END:VCALENDAR