BEGIN:VCALENDAR
VERSION:2.0
PRODID:-//eventon.com NONSGML v1.0//EN
CALSCALE:GREGORIAN
METHOD:PUBLISH
BEGIN:VEVENT
UID:69e7634344b62
DTSTAMP:20260421T114507Z
DTSTART:20250409T134500Z
DTEND:20250409T163000Z
LOCATION:
SUMMARY:L'objet de la rencontre
DESCRIPTION:Que partage-t-on en Sud Estuaire ? Quels paysages ? Quelles hab
 itudes ? Quelles fêtes a-t-on en commun ? Graines\,  outils\,  coquillages
 \,  quel outil vous parle le plus ?Les Mots Valises - avec Glawdys Sauvaget
  - viennent à vous en avril avec une curieuse malle remplie d'objets évoq
 uant nos paysages\,  habitudes\, [..]\nhttps://lofficieldepaimboeuf.com/eve
 nts/lobjet-de-la-rencontre-collecte-de-paroles-creatives/
URL:https://lofficieldepaimboeuf.com/events/lobjet-de-la-rencontre-collecte-de-paroles-creatives/
END:VEVENT
END:VCALENDAR